BEGIN:VCALENDAR
VERSION:2.0
PRODID:-//Plone.org//NONSGML plone.app.event//EN
X-WR-TIMEZONE:Europe/Andorra
BEGIN:VEVENT
SUMMARY:8è Caiac Extrem Vall d'Ordino
DTSTART;TZID=CET;VALUE=DATE-TIME:20200502T090000
DTEND;TZID=CET;VALUE=DATE-TIME:20200503T120000
DTSTAMP;VALUE=DATE-TIME:20260421T111919Z
UID:4b30c074658e4a82a4ed3cee934f6a1d@www.ordino.ad
CREATED;VALUE=DATE-TIME:20200309T132616Z
LAST-MODIFIED;VALUE=DATE-TIME:20210504T045415Z
URL:https://www.ordino.ad/agenda/8e-caiac-extrem-vall-dordino
END:VEVENT
BEGIN:VTIMEZONE
TZID:CET
X-LIC-LOCATION:CET
BEGIN:DAYLIGHT
DTSTART;VALUE=DATE-TIME:20200329T030000
TZNAME:CEST
TZOFFSETFROM:+0100
TZOFFSETTO:+0200
END:DAYLIGHT
END:VTIMEZONE
END:VCALENDAR
