BEGIN:VCALENDAR
VERSION:2.0
PRODID:-//Plone.org//NONSGML plone.app.event//EN
X-WR-TIMEZONE:Europe/Andorra
BEGIN:VEVENT
SUMMARY:9è Congrès Mundial de Turisme de Neu i de Muntanya
DTSTART;TZID=CET;VALUE=DATE-TIME:20160302T000000
DTEND;TZID=CET;VALUE=DATE-TIME:20160304T000000
DTSTAMP;VALUE=DATE-TIME:20260419T233512Z
UID:f5f50de4bee24ab88f0b2b52e18b8443@www.ordino.ad
CONTACT:http://www.congresdeneu.ad/
CREATED;VALUE=DATE-TIME:20160222T084631Z
LAST-MODIFIED;VALUE=DATE-TIME:20210504T045307Z
URL:https://www.ordino.ad/agenda/9e-congres-mundial-de-turisme-de-neu-i-de
 -muntanya
END:VEVENT
BEGIN:VTIMEZONE
TZID:CET
X-LIC-LOCATION:CET
BEGIN:STANDARD
DTSTART;VALUE=DATE-TIME:20151025T020000
TZNAME:CET
TZOFFSETFROM:+0200
TZOFFSETTO:+0100
END:STANDARD
END:VTIMEZONE
END:VCALENDAR
