BEGIN:VCALENDAR
VERSION:2.0
PRODID:-//Plone.org//NONSGML plone.app.event//EN
X-WR-TIMEZONE:Europe/Andorra
BEGIN:VEVENT
SUMMARY:Activitats Joves al PIJ
DTSTART;TZID=Europe/Andorra;VALUE=DATE-TIME:20211227T090000
DTEND;TZID=Europe/Andorra;VALUE=DATE-TIME:20220107T170000
DTSTAMP;VALUE=DATE-TIME:20260421T024442Z
UID:d6cae582437d4f4abaaab9c80413e636@www.ordino.ad
CREATED;VALUE=DATE-TIME:20211216T114651Z
DESCRIPTION:Programa per a les vacances escolars
LAST-MODIFIED;VALUE=DATE-TIME:20211216T114900Z
LOCATION:PIJ Ordino
URL:https://www.ordino.ad/agenda/activitats-joves-al-pij
END:VEVENT
BEGIN:VTIMEZONE
TZID:Europe/Andorra
X-LIC-LOCATION:Europe/Andorra
BEGIN:STANDARD
DTSTART;VALUE=DATE-TIME:20211031T020000
TZNAME:CET
TZOFFSETFROM:+0200
TZOFFSETTO:+0100
END:STANDARD
END:VTIMEZONE
END:VCALENDAR
