BEGIN:VCALENDAR
VERSION:2.0
PRODID:-//Plone.org//NONSGML plone.app.event//EN
X-WR-TIMEZONE:Europe/Andorra
BEGIN:VEVENT
SUMMARY:Audició de l'Escola de Música de les Valls del Nord
DTSTART;TZID=CET;VALUE=DATE-TIME:20171221T180000
DTEND;TZID=CET;VALUE=DATE-TIME:20171221T200000
DTSTAMP;VALUE=DATE-TIME:20260421T111559Z
UID:3edc856f7b8a4070a8f03c5089f7922c@www.ordino.ad
CREATED;VALUE=DATE-TIME:20171129T150508Z
LAST-MODIFIED;VALUE=DATE-TIME:20210504T045323Z
URL:https://www.ordino.ad/agenda/audicio-de-lescola-de-musica-de-les-valls
 -del-nord-1
END:VEVENT
BEGIN:VTIMEZONE
TZID:CET
X-LIC-LOCATION:CET
BEGIN:STANDARD
DTSTART;VALUE=DATE-TIME:20171029T020000
TZNAME:CET
TZOFFSETFROM:+0200
TZOFFSETTO:+0100
END:STANDARD
END:VTIMEZONE
END:VCALENDAR
