BEGIN:VCALENDAR
VERSION:2.0
PRODID:-//Plone.org//NONSGML plone.app.event//EN
X-WR-TIMEZONE:Europe/Andorra
BEGIN:VEVENT
SUMMARY:Campionat de petanca d'Andorra de veterans
DTSTART;TZID=CET;VALUE=DATE-TIME:20161001T100000
DTEND;TZID=CET;VALUE=DATE-TIME:20161001T190000
DTSTAMP;VALUE=DATE-TIME:20260421T052050Z
UID:14103406bc50419498f1edad4b16f171@www.ordino.ad
CREATED;VALUE=DATE-TIME:20160926T072054Z
LAST-MODIFIED;VALUE=DATE-TIME:20210504T045306Z
URL:https://www.ordino.ad/agenda/campionat-dandorra-de-veterans
END:VEVENT
BEGIN:VTIMEZONE
TZID:CET
X-LIC-LOCATION:CET
BEGIN:DAYLIGHT
DTSTART;VALUE=DATE-TIME:20160327T030000
TZNAME:CEST
TZOFFSETFROM:+0100
TZOFFSETTO:+0200
END:DAYLIGHT
END:VTIMEZONE
END:VCALENDAR
