BEGIN:VCALENDAR
VERSION:2.0
PRODID:-//Plone.org//NONSGML plone.app.event//EN
X-WR-TIMEZONE:Europe/Andorra
BEGIN:VEVENT
SUMMARY:Campus Bàsquet Mate
DTSTART;TZID=CET;VALUE=DATE-TIME:20170429T170000
DTEND;TZID=CET;VALUE=DATE-TIME:20170501T180000
DTSTAMP;VALUE=DATE-TIME:20260421T112351Z
UID:4070b0a125974ac099c79b42b909056a@www.ordino.ad
CREATED;VALUE=DATE-TIME:20170421T072247Z
LAST-MODIFIED;VALUE=DATE-TIME:20210504T045335Z
URL:https://www.ordino.ad/agenda/campus-basquet-mate
END:VEVENT
BEGIN:VTIMEZONE
TZID:CET
X-LIC-LOCATION:CET
BEGIN:DAYLIGHT
DTSTART;VALUE=DATE-TIME:20170326T030000
TZNAME:CEST
TZOFFSETFROM:+0100
TZOFFSETTO:+0200
END:DAYLIGHT
END:VTIMEZONE
END:VCALENDAR
