BEGIN:VCALENDAR
VERSION:2.0
PRODID:-//Plone.org//NONSGML plone.app.event//EN
X-WR-TIMEZONE:Europe/Andorra
BEGIN:VEVENT
SUMMARY:Challenge ciclista
DTSTART;TZID=CET;VALUE=DATE-TIME:20180728T090000
DTEND;TZID=CET;VALUE=DATE-TIME:20180728T120000
DTSTAMP;VALUE=DATE-TIME:20260421T111343Z
UID:9c57b4876b1b4dfa953404b6ab5b7b68@www.ordino.ad
CONTACT:https://www.inscriu.me/ca/challenge-2018-ordino-anyospark-t2v 
CREATED;VALUE=DATE-TIME:20180713T071703Z
LAST-MODIFIED;VALUE=DATE-TIME:20210504T045344Z
URL:https://www.ordino.ad/agenda/challenge-ciclista
END:VEVENT
BEGIN:VTIMEZONE
TZID:CET
X-LIC-LOCATION:CET
BEGIN:DAYLIGHT
DTSTART;VALUE=DATE-TIME:20180325T030000
TZNAME:CEST
TZOFFSETFROM:+0100
TZOFFSETTO:+0200
END:DAYLIGHT
END:VTIMEZONE
END:VCALENDAR
