BEGIN:VCALENDAR
VERSION:2.0
PRODID:-//Plone.org//NONSGML plone.app.event//EN
X-WR-TIMEZONE:Europe/Andorra
BEGIN:VEVENT
SUMMARY:Cicle Nits Obertes. Basarab
DTSTART;TZID=CET;VALUE=DATE-TIME:20150722T220000
DTEND;TZID=CET;VALUE=DATE-TIME:20150722T220000
DTSTAMP;VALUE=DATE-TIME:20260423T192513Z
UID:258082d26282464aadeb0a0d5040d142@www.ordino.ad
CREATED;VALUE=DATE-TIME:20150703T075106Z
LAST-MODIFIED;VALUE=DATE-TIME:20210504T045300Z
URL:https://www.ordino.ad/agenda/cicle-nits-obertes-basarab
END:VEVENT
BEGIN:VTIMEZONE
TZID:CET
X-LIC-LOCATION:CET
BEGIN:DAYLIGHT
DTSTART;VALUE=DATE-TIME:20150329T030000
TZNAME:CEST
TZOFFSETFROM:+0100
TZOFFSETTO:+0200
END:DAYLIGHT
END:VTIMEZONE
END:VCALENDAR
