BEGIN:VCALENDAR
VERSION:2.0
PRODID:-//Plone.org//NONSGML plone.app.event//EN
X-WR-TIMEZONE:Europe/Andorra
BEGIN:VEVENT
SUMMARY:Cicle Nits Obertes. 'Habitant espais'
DTSTART;TZID=CET;VALUE=DATE-TIME:20170725T220000
DTEND;TZID=CET;VALUE=DATE-TIME:20170725T223000
DTSTAMP;VALUE=DATE-TIME:20260422T175803Z
UID:b4fa6f1bfe2047c79b11503c9ab45706@www.ordino.ad
CREATED;VALUE=DATE-TIME:20170724T102332Z
DESCRIPTION:Dansa contemporània i música en directe
LAST-MODIFIED;VALUE=DATE-TIME:20210504T045327Z
URL:https://www.ordino.ad/agenda/cicle-nits-obertes-habitant-espais-3
END:VEVENT
BEGIN:VTIMEZONE
TZID:CET
X-LIC-LOCATION:CET
BEGIN:DAYLIGHT
DTSTART;VALUE=DATE-TIME:20170326T030000
TZNAME:CEST
TZOFFSETFROM:+0100
TZOFFSETTO:+0200
END:DAYLIGHT
END:VTIMEZONE
END:VCALENDAR
