BEGIN:VCALENDAR
VERSION:2.0
PRODID:-//Plone.org//NONSGML plone.app.event//EN
X-WR-TIMEZONE:Europe/Andorra
BEGIN:VEVENT
SUMMARY:Concert de primavera
DTSTART;TZID=CET;VALUE=DATE-TIME:20160508T120000
DTEND;TZID=CET;VALUE=DATE-TIME:20160508T133000
DTSTAMP;VALUE=DATE-TIME:20260422T143823Z
UID:62e75b9547874bbebe46358b178c7bfb@www.ordino.ad
CREATED;VALUE=DATE-TIME:20160506T113522Z
LAST-MODIFIED;VALUE=DATE-TIME:20210504T045252Z
URL:https://www.ordino.ad/agenda/concert-de-primavera
END:VEVENT
BEGIN:VTIMEZONE
TZID:CET
X-LIC-LOCATION:CET
BEGIN:DAYLIGHT
DTSTART;VALUE=DATE-TIME:20160327T030000
TZNAME:CEST
TZOFFSETFROM:+0100
TZOFFSETTO:+0200
END:DAYLIGHT
END:VTIMEZONE
END:VCALENDAR
