BEGIN:VCALENDAR
VERSION:2.0
PRODID:-//Plone.org//NONSGML plone.app.event//EN
X-WR-TIMEZONE:Europe/Andorra
BEGIN:VEVENT
SUMMARY:Concert Duo Divertimento. Onca bàsic
DTSTART;TZID=CET;VALUE=DATE-TIME:20190724T210000
DTEND;TZID=CET;VALUE=DATE-TIME:20190724T230000
DTSTAMP;VALUE=DATE-TIME:20260421T112421Z
UID:595d593a95b748c58e20ab98bc62c9bc@www.ordino.ad
CREATED;VALUE=DATE-TIME:20190620T132908Z
DESCRIPTION:Cicle Nits Obertes
LAST-MODIFIED;VALUE=DATE-TIME:20210504T045404Z
URL:https://www.ordino.ad/agenda/concert-duo-divertimento-onca-basic
END:VEVENT
BEGIN:VTIMEZONE
TZID:CET
X-LIC-LOCATION:CET
BEGIN:DAYLIGHT
DTSTART;VALUE=DATE-TIME:20190331T030000
TZNAME:CEST
TZOFFSETFROM:+0100
TZOFFSETTO:+0200
END:DAYLIGHT
END:VTIMEZONE
END:VCALENDAR
