BEGIN:VCALENDAR
VERSION:2.0
PRODID:-//Plone.org//NONSGML plone.app.event//EN
X-WR-TIMEZONE:Europe/Andorra
BEGIN:VEVENT
SUMMARY:Concurs de nadales i calendaris d'advent
DTSTART;TZID=CET;VALUE=DATE-TIME:20161114T101500
DTEND;TZID=CET;VALUE=DATE-TIME:20161125T101500
DTSTAMP;VALUE=DATE-TIME:20260420T043720Z
UID:df743e09c1e74a87842679916335290a@www.ordino.ad
CREATED;VALUE=DATE-TIME:20161114T091714Z
LAST-MODIFIED;VALUE=DATE-TIME:20210504T045311Z
URL:https://www.ordino.ad/agenda/concurs-de-nadales-i-calendaris-dadvent
END:VEVENT
BEGIN:VTIMEZONE
TZID:CET
X-LIC-LOCATION:CET
BEGIN:STANDARD
DTSTART;VALUE=DATE-TIME:20161030T020000
TZNAME:CET
TZOFFSETFROM:+0200
TZOFFSETTO:+0100
END:STANDARD
END:VTIMEZONE
END:VCALENDAR
