BEGIN:VCALENDAR
VERSION:2.0
PRODID:-//Plone.org//NONSGML plone.app.event//EN
X-WR-TIMEZONE:Europe/Andorra
BEGIN:VEVENT
SUMMARY:Consell de Comú
DTSTART;TZID=CET;VALUE=DATE-TIME:20160317T133000
DTEND;TZID=CET;VALUE=DATE-TIME:20160317T140000
DTSTAMP;VALUE=DATE-TIME:20260424T005410Z
UID:2bc3171436164f2c91dc9d62cf6c6ec3@www.ordino.ad
CREATED;VALUE=DATE-TIME:20160223T093636Z
LAST-MODIFIED;VALUE=DATE-TIME:20210504T045302Z
URL:https://www.ordino.ad/agenda/consell-de-comu-3
END:VEVENT
BEGIN:VTIMEZONE
TZID:CET
X-LIC-LOCATION:CET
BEGIN:STANDARD
DTSTART;VALUE=DATE-TIME:20151025T020000
TZNAME:CET
TZOFFSETFROM:+0200
TZOFFSETTO:+0100
END:STANDARD
END:VTIMEZONE
END:VCALENDAR
