BEGIN:VCALENDAR
VERSION:2.0
PRODID:-//Plone.org//NONSGML plone.app.event//EN
X-WR-TIMEZONE:Europe/Andorra
BEGIN:VEVENT
SUMMARY:Contacontes
DTSTART;TZID=CET;VALUE=DATE-TIME:20180109T173000
DTEND;TZID=CET;VALUE=DATE-TIME:20180109T183000
DTSTAMP;VALUE=DATE-TIME:20260425T190908Z
UID:987aeb731c5f4b139a1050b86c4e120c@www.ordino.ad
CREATED;VALUE=DATE-TIME:20181214T093914Z
DESCRIPTION:De 6 a 12 anys
LAST-MODIFIED;VALUE=DATE-TIME:20210504T045401Z
URL:https://www.ordino.ad/agenda/contacontes-5
END:VEVENT
BEGIN:VTIMEZONE
TZID:CET
X-LIC-LOCATION:CET
BEGIN:STANDARD
DTSTART;VALUE=DATE-TIME:20171029T020000
TZNAME:CET
TZOFFSETFROM:+0200
TZOFFSETTO:+0100
END:STANDARD
END:VTIMEZONE
END:VCALENDAR
