BEGIN:VCALENDAR
VERSION:2.0
PRODID:-//Plone.org//NONSGML plone.app.event//EN
X-WR-TIMEZONE:Europe/Andorra
BEGIN:VEVENT
SUMMARY:11è Campionat Contrarellotge 
DTSTART;TZID=CET;VALUE=DATE-TIME:20160730T090000
DTEND;TZID=CET;VALUE=DATE-TIME:20160730T230000
DTSTAMP;VALUE=DATE-TIME:20260420T023940Z
UID:c05d20a7ac334acdaa7d981efd7ae423@www.ordino.ad
CREATED;VALUE=DATE-TIME:20160708T133854Z
DESCRIPTION:Challenge
LAST-MODIFIED;VALUE=DATE-TIME:20210504T045318Z
URL:https://www.ordino.ad/agenda/cronoescalada-ordino-la-coma
END:VEVENT
BEGIN:VTIMEZONE
TZID:CET
X-LIC-LOCATION:CET
BEGIN:DAYLIGHT
DTSTART;VALUE=DATE-TIME:20160327T030000
TZNAME:CEST
TZOFFSETFROM:+0100
TZOFFSETTO:+0200
END:DAYLIGHT
END:VTIMEZONE
END:VCALENDAR
