BEGIN:VCALENDAR
VERSION:2.0
PRODID:-//Plone.org//NONSGML plone.app.event//EN
X-WR-TIMEZONE:Europe/Andorra
BEGIN:VEVENT
SUMMARY:Cursa d'Orientació
DTSTART;TZID=Europe/Andorra;VALUE=DATE-TIME:20240609T090000
DTEND;TZID=Europe/Andorra;VALUE=DATE-TIME:20240609T143000
DTSTAMP;VALUE=DATE-TIME:20260421T061246Z
UID:5f8ff8645c024c9bb15705078e8390bc@www.ordino.ad
CONTACT:https://eventselit.com/producte/orientacio/
CREATED;VALUE=DATE-TIME:20240514T085445Z
LAST-MODIFIED;VALUE=DATE-TIME:20240607T102857Z
LOCATION:Coll d'Ordino
URL:https://www.ordino.ad/agenda/cursa-dorientacio
END:VEVENT
BEGIN:VTIMEZONE
TZID:Europe/Andorra
X-LIC-LOCATION:Europe/Andorra
BEGIN:DAYLIGHT
DTSTART;VALUE=DATE-TIME:20240331T030000
TZNAME:CEST
TZOFFSETFROM:+0100
TZOFFSETTO:+0200
END:DAYLIGHT
END:VTIMEZONE
END:VCALENDAR
