BEGIN:VCALENDAR
VERSION:2.0
PRODID:-//Plone.org//NONSGML plone.app.event//EN
X-WR-TIMEZONE:Europe/Andorra
BEGIN:VEVENT
SUMMARY:Dia Internacional de les Muntanyes
DTSTART;TZID=CET;VALUE=DATE-TIME:20161212T210000
DTEND;TZID=CET;VALUE=DATE-TIME:20161212T223000
DTSTAMP;VALUE=DATE-TIME:20260420T044420Z
UID:ae45f7dc6dbe4e2ea7ce00cd6ef0a174@www.ordino.ad
CREATED;VALUE=DATE-TIME:20161205T122042Z
LAST-MODIFIED;VALUE=DATE-TIME:20210504T045326Z
URL:https://www.ordino.ad/agenda/dia-internacional-de-les-muntanyes-1
END:VEVENT
BEGIN:VTIMEZONE
TZID:CET
X-LIC-LOCATION:CET
BEGIN:STANDARD
DTSTART;VALUE=DATE-TIME:20161030T020000
TZNAME:CET
TZOFFSETFROM:+0200
TZOFFSETTO:+0100
END:STANDARD
END:VTIMEZONE
END:VCALENDAR
