BEGIN:VCALENDAR
VERSION:2.0
PRODID:-//Plone.org//NONSGML plone.app.event//EN
X-WR-TIMEZONE:Europe/Andorra
BEGIN:VEVENT
SUMMARY:Diada de Sant Jordi
DTSTART;TZID=CET;VALUE=DATE-TIME:20170424T170000
DTEND;TZID=CET;VALUE=DATE-TIME:20170424T190000
DTSTAMP;VALUE=DATE-TIME:20260420T175632Z
UID:5ced4dee927849adb8de43a48df8e759@www.ordino.ad
CREATED;VALUE=DATE-TIME:20170302T121102Z
LAST-MODIFIED;VALUE=DATE-TIME:20210504T045330Z
URL:https://www.ordino.ad/agenda/diada-de-sant-jordi-2
END:VEVENT
BEGIN:VTIMEZONE
TZID:CET
X-LIC-LOCATION:CET
BEGIN:DAYLIGHT
DTSTART;VALUE=DATE-TIME:20170326T030000
TZNAME:CEST
TZOFFSETFROM:+0100
TZOFFSETTO:+0200
END:DAYLIGHT
END:VTIMEZONE
END:VCALENDAR
