BEGIN:VCALENDAR
VERSION:2.0
PRODID:-//Plone.org//NONSGML plone.app.event//EN
X-WR-TIMEZONE:Europe/Andorra
BEGIN:VEVENT
SUMMARY:El consum de drogues: la prevenció a través de la família
DTSTART;TZID=CET;VALUE=DATE-TIME:20160510T213000
DTEND;TZID=CET;VALUE=DATE-TIME:20160510T223000
DTSTAMP;VALUE=DATE-TIME:20260420T162235Z
UID:6a31a8d68f8f4581befe4c971c5f135f@www.ordino.ad
CONTACT:http://www.ordino.ad/docs/escola-de-pares-i-mares-2016/at_download
 /fileL'Escola de mares i pares ofereix sis taules d'orientació per tracta
 r els principals entrebancs i dubtes amb què es troben pares i/o tutors d
 'infants i joves entre els 0 i els 18 anys.
CREATED;VALUE=DATE-TIME:20160411T113540Z
LAST-MODIFIED;VALUE=DATE-TIME:20210504T045259Z
URL:https://www.ordino.ad/agenda/el-consum-de-drogues-la-prevencio-a-trave
 s-de-la-familia-1
END:VEVENT
BEGIN:VTIMEZONE
TZID:CET
X-LIC-LOCATION:CET
BEGIN:DAYLIGHT
DTSTART;VALUE=DATE-TIME:20160327T030000
TZNAME:CEST
TZOFFSETFROM:+0100
TZOFFSETTO:+0200
END:DAYLIGHT
END:VTIMEZONE
END:VCALENDAR
