BEGIN:VCALENDAR
VERSION:2.0
PRODID:-//Plone.org//NONSGML plone.app.event//EN
X-WR-TIMEZONE:Europe/Andorra
BEGIN:VEVENT
SUMMARY:El dol: com explico la mort al meu fill
DTSTART;TZID=CET;VALUE=DATE-TIME:20161115T213000
DTEND;TZID=CET;VALUE=DATE-TIME:20161115T223000
DTSTAMP;VALUE=DATE-TIME:20260420T001058Z
UID:1216895f57c14b16828683d7b3a7af27@www.ordino.ad
CONTACT:http://www.ordino.ad/docs/escola-de-pares-i-mares-2016/at_download
 /file
CREATED;VALUE=DATE-TIME:20160411T123135Z
LAST-MODIFIED;VALUE=DATE-TIME:20210504T045255Z
URL:https://www.ordino.ad/agenda/el-dol-com-explico-la-mort-al-meu-fill
END:VEVENT
BEGIN:VTIMEZONE
TZID:CET
X-LIC-LOCATION:CET
BEGIN:STANDARD
DTSTART;VALUE=DATE-TIME:20161030T020000
TZNAME:CET
TZOFFSETFROM:+0200
TZOFFSETTO:+0100
END:STANDARD
END:VTIMEZONE
END:VCALENDAR
