BEGIN:VCALENDAR
VERSION:2.0
PRODID:-//Plone.org//NONSGML plone.app.event//EN
X-WR-TIMEZONE:Europe/Andorra
BEGIN:VEVENT
SUMMARY:El riure com a teràpia
DTSTART;TZID=CET;VALUE=DATE-TIME:20161018T180000
DTEND;TZID=CET;VALUE=DATE-TIME:20161018T193000
DTSTAMP;VALUE=DATE-TIME:20260421T130947Z
UID:14fd31ab75544885aa712097418e972b@www.ordino.ad
CREATED;VALUE=DATE-TIME:20160413T130553Z
DESCRIPTION:Cicle de xerrades del SAD
LAST-MODIFIED;VALUE=DATE-TIME:20210504T045317Z
URL:https://www.ordino.ad/agenda/el-riure-com-a-terapia
END:VEVENT
BEGIN:VTIMEZONE
TZID:CET
X-LIC-LOCATION:CET
BEGIN:DAYLIGHT
DTSTART;VALUE=DATE-TIME:20160327T030000
TZNAME:CEST
TZOFFSETFROM:+0100
TZOFFSETTO:+0200
END:DAYLIGHT
END:VTIMEZONE
END:VCALENDAR
