BEGIN:VCALENDAR
VERSION:2.0
PRODID:-//Plone.org//NONSGML plone.app.event//EN
X-WR-TIMEZONE:Europe/Andorra
BEGIN:VEVENT
SUMMARY:Escola de mares i pares de les Valls del Nord
DTSTART;TZID=CET;VALUE=DATE-TIME:20170404T213000
DTEND;TZID=CET;VALUE=DATE-TIME:20170404T223000
DTSTAMP;VALUE=DATE-TIME:20260420T151359Z
UID:2c3301e8ba7b4953b1e986727764d421@www.ordino.ad
CREATED;VALUE=DATE-TIME:20170127T140001Z
DESCRIPTION:Disciplina positiva. Sessió 3
LAST-MODIFIED;VALUE=DATE-TIME:20210504T045309Z
URL:https://www.ordino.ad/agenda/escola-de-mares-i-pares-de-les-valls-del-
 nord
END:VEVENT
BEGIN:VTIMEZONE
TZID:CET
X-LIC-LOCATION:CET
BEGIN:DAYLIGHT
DTSTART;VALUE=DATE-TIME:20170326T030000
TZNAME:CEST
TZOFFSETFROM:+0100
TZOFFSETTO:+0200
END:DAYLIGHT
END:VTIMEZONE
END:VCALENDAR
