BEGIN:VCALENDAR
VERSION:2.0
PRODID:-//Plone.org//NONSGML plone.app.event//EN
X-WR-TIMEZONE:Europe/Andorra
BEGIN:VEVENT
SUMMARY:Espectacle de Nadal
DTSTART;TZID=CET;VALUE=DATE-TIME:20191214T120000
DTEND;TZID=CET;VALUE=DATE-TIME:20191214T130000
DTSTAMP;VALUE=DATE-TIME:20260420T150439Z
UID:e3888d750f674821b0853aa4853006dc@www.ordino.ad
CREATED;VALUE=DATE-TIME:20191119T093355Z
LAST-MODIFIED;VALUE=DATE-TIME:20210504T045403Z
URL:https://www.ordino.ad/agenda/espectacle-de-nadal
END:VEVENT
BEGIN:VTIMEZONE
TZID:CET
X-LIC-LOCATION:CET
BEGIN:STANDARD
DTSTART;VALUE=DATE-TIME:20191027T020000
TZNAME:CET
TZOFFSETFROM:+0200
TZOFFSETTO:+0100
END:STANDARD
END:VTIMEZONE
END:VCALENDAR
