BEGIN:VCALENDAR
VERSION:2.0
PRODID:-//Plone.org//NONSGML plone.app.event//EN
X-WR-TIMEZONE:Europe/Andorra
BEGIN:VEVENT
SUMMARY:Espectacle infantil 'Contes Salvatges'
DTSTART;TZID=CET;VALUE=DATE-TIME:20161021T180000
DTEND;TZID=CET;VALUE=DATE-TIME:20161021T190000
DTSTAMP;VALUE=DATE-TIME:20260422T091723Z
UID:f69ad3f7051244cda2d34d92bc339ee2@www.ordino.ad
CREATED;VALUE=DATE-TIME:20161014T093049Z
LAST-MODIFIED;VALUE=DATE-TIME:20210504T045325Z
URL:https://www.ordino.ad/agenda/espectacle-infantil-contes-salvatges
END:VEVENT
BEGIN:VTIMEZONE
TZID:CET
X-LIC-LOCATION:CET
BEGIN:DAYLIGHT
DTSTART;VALUE=DATE-TIME:20160327T030000
TZNAME:CEST
TZOFFSETFROM:+0100
TZOFFSETTO:+0200
END:DAYLIGHT
END:VTIMEZONE
END:VCALENDAR
