BEGIN:VCALENDAR
VERSION:2.0
PRODID:-//Plone.org//NONSGML plone.app.event//EN
X-WR-TIMEZONE:Europe/Andorra
BEGIN:VEVENT
SUMMARY:Exposició de fotografia i dibuix '5 dones 5 destins'
DTSTART;TZID=Europe/Andorra;VALUE=DATE-TIME:20230306T090000
DTEND;TZID=Europe/Andorra;VALUE=DATE-TIME:20230410T200000
DTSTAMP;VALUE=DATE-TIME:20260421T111749Z
UID:57bc53933a5448d7a2618bfab96b75fd@www.ordino.ad
CREATED;VALUE=DATE-TIME:20230216T121007Z
DESCRIPTION:Obres de Rosa Mujal i Jean Luc Herbert
LAST-MODIFIED;VALUE=DATE-TIME:20230306T102807Z
LOCATION:Edifici sociocultural L'Estudi
URL:https://www.ordino.ad/agenda/exposicio-de-fotografia-i-dibuix-5-dones-
 5-destins-1
END:VEVENT
BEGIN:VTIMEZONE
TZID:Europe/Andorra
X-LIC-LOCATION:Europe/Andorra
BEGIN:STANDARD
DTSTART;VALUE=DATE-TIME:20221030T020000
TZNAME:CET
TZOFFSETFROM:+0200
TZOFFSETTO:+0100
END:STANDARD
BEGIN:DAYLIGHT
DTSTART;VALUE=DATE-TIME:20230326T030000
TZNAME:CEST
TZOFFSETFROM:+0100
TZOFFSETTO:+0200
END:DAYLIGHT
END:VTIMEZONE
END:VCALENDAR
