BEGIN:VCALENDAR
VERSION:2.0
PRODID:-//Plone.org//NONSGML plone.app.event//EN
X-WR-TIMEZONE:Europe/Andorra
BEGIN:VEVENT
SUMMARY:Exposició de fotografia
DTSTART;TZID=CET;VALUE=DATE-TIME:20200204T090000
DTEND;TZID=CET;VALUE=DATE-TIME:20200304T200000
DTSTAMP;VALUE=DATE-TIME:20260422T124441Z
UID:2bd2c57b11584df09f59a6439a6b90d2@www.ordino.ad
CREATED;VALUE=DATE-TIME:20200124T103707Z
DESCRIPTION:'Amunt' de Xavier Calvet
LAST-MODIFIED;VALUE=DATE-TIME:20210504T045406Z
URL:https://www.ordino.ad/agenda/exposicio-de-fotografia
END:VEVENT
BEGIN:VTIMEZONE
TZID:CET
X-LIC-LOCATION:CET
BEGIN:STANDARD
DTSTART;VALUE=DATE-TIME:20191027T020000
TZNAME:CET
TZOFFSETFROM:+0200
TZOFFSETTO:+0100
END:STANDARD
END:VTIMEZONE
END:VCALENDAR
