BEGIN:VCALENDAR
VERSION:2.0
PRODID:-//Plone.org//NONSGML plone.app.event//EN
X-WR-TIMEZONE:Europe/Andorra
BEGIN:VEVENT
SUMMARY:Lliurament de premis 16è concurs de Nadales i Calendaris d'Advent
  
DTSTART;TZID=CET;VALUE=DATE-TIME:20180110T180000
DTEND;TZID=CET;VALUE=DATE-TIME:20180110T190000
DTSTAMP;VALUE=DATE-TIME:20260419T192212Z
UID:4bf60563da47428c8e109d4a523eaec9@www.ordino.ad
CREATED;VALUE=DATE-TIME:20161128T133704Z
LAST-MODIFIED;VALUE=DATE-TIME:20210504T045316Z
URL:https://www.ordino.ad/agenda/exposicio-del-15e-concurs-de-nadales-i-ca
 lendaris-dadvent
END:VEVENT
BEGIN:VTIMEZONE
TZID:CET
X-LIC-LOCATION:CET
BEGIN:STANDARD
DTSTART;VALUE=DATE-TIME:20171029T020000
TZNAME:CET
TZOFFSETFROM:+0200
TZOFFSETTO:+0100
END:STANDARD
END:VTIMEZONE
END:VCALENDAR
