BEGIN:VCALENDAR
VERSION:2.0
PRODID:-//Plone.org//NONSGML plone.app.event//EN
X-WR-TIMEZONE:Europe/Andorra
BEGIN:VEVENT
SUMMARY:Festa Major d'Ansalonga
DTSTART;TZID=CET;VALUE=DATE-TIME:20190927T200000
DTEND;TZID=CET;VALUE=DATE-TIME:20190929T230000
DTSTAMP;VALUE=DATE-TIME:20260419T233618Z
UID:6d2185036f414944bb6316206e454136@www.ordino.ad
CONTACT:https://www.facebook.com/ansalonga 
CREATED;VALUE=DATE-TIME:20180917T134534Z
LAST-MODIFIED;VALUE=DATE-TIME:20210504T045339Z
URL:https://www.ordino.ad/agenda/festa-major-dansalonga-3
END:VEVENT
BEGIN:VTIMEZONE
TZID:CET
X-LIC-LOCATION:CET
BEGIN:DAYLIGHT
DTSTART;VALUE=DATE-TIME:20190331T030000
TZNAME:CEST
TZOFFSETFROM:+0100
TZOFFSETTO:+0200
END:DAYLIGHT
END:VTIMEZONE
END:VCALENDAR
