BEGIN:VCALENDAR
VERSION:2.0
PRODID:-//Plone.org//NONSGML plone.app.event//EN
X-WR-TIMEZONE:Europe/Andorra
BEGIN:VEVENT
SUMMARY:Festa Major de Sornàs
DTSTART;TZID=Europe/Andorra;VALUE=DATE-TIME:20240816T120000
DTEND;TZID=Europe/Andorra;VALUE=DATE-TIME:20240817T235500
DTSTAMP;VALUE=DATE-TIME:20260424T011014Z
UID:a4f325664d1745be823b5ff383cab79e@www.ordino.ad
CONTACT:https://www.instagram.com/festa.major.sornas/
CREATED;VALUE=DATE-TIME:20240809T101638Z
LAST-MODIFIED;VALUE=DATE-TIME:20240809T101642Z
URL:https://www.ordino.ad/agenda/festa-major-de-sornas-10
END:VEVENT
BEGIN:VTIMEZONE
TZID:Europe/Andorra
X-LIC-LOCATION:Europe/Andorra
BEGIN:DAYLIGHT
DTSTART;VALUE=DATE-TIME:20240331T030000
TZNAME:CEST
TZOFFSETFROM:+0100
TZOFFSETTO:+0200
END:DAYLIGHT
END:VTIMEZONE
END:VCALENDAR
