BEGIN:VCALENDAR
VERSION:2.0
PRODID:-//Plone.org//NONSGML plone.app.event//EN
X-WR-TIMEZONE:Europe/Andorra
BEGIN:VEVENT
SUMMARY:Christmas Village
DTSTART;TZID=CET;VALUE=DATE-TIME:20171207T160000
DTEND;TZID=CET;VALUE=DATE-TIME:20171210T200000
DTSTAMP;VALUE=DATE-TIME:20260423T192350Z
UID:a0c0eb5e18a646ef9d06c7f1012c5967@www.ordino.ad
CONTACT:http://www.ordino.ad/docs/fira-de-nadal-2017
CREATED;VALUE=DATE-TIME:20161020T103634Z
DESCRIPTION:Consulta el programa d'activitats
LAST-MODIFIED;VALUE=DATE-TIME:20210504T045326Z
URL:https://www.ordino.ad/agenda/fira-de-nadal-2
END:VEVENT
BEGIN:VTIMEZONE
TZID:CET
X-LIC-LOCATION:CET
BEGIN:STANDARD
DTSTART;VALUE=DATE-TIME:20171029T020000
TZNAME:CET
TZOFFSETFROM:+0200
TZOFFSETTO:+0100
END:STANDARD
END:VTIMEZONE
END:VCALENDAR
