BEGIN:VCALENDAR
VERSION:2.0
PRODID:-//Plone.org//NONSGML plone.app.event//EN
X-WR-TIMEZONE:Europe/Andorra
BEGIN:VEVENT
SUMMARY:Fira del Bestiar 2026
DTSTART;TZID=Europe/Andorra;VALUE=DATE-TIME:20260508T100000
DTEND;TZID=Europe/Andorra;VALUE=DATE-TIME:20260510T153500
DTSTAMP;VALUE=DATE-TIME:20260420T190906Z
UID:355c857ec5be4a4eb5d3927e61958907@www.ordino.ad
CONTACT:https://www.ordino.ad/docs/firabestiar.pdf/
CREATED;VALUE=DATE-TIME:20260420T125435Z
LAST-MODIFIED;VALUE=DATE-TIME:20260420T125508Z
URL:https://www.ordino.ad/agenda/fira-del-bestiar-1
END:VEVENT
BEGIN:VTIMEZONE
TZID:Europe/Andorra
X-LIC-LOCATION:Europe/Andorra
BEGIN:DAYLIGHT
DTSTART;VALUE=DATE-TIME:20260329T030000
TZNAME:CEST
TZOFFSETFROM:+0100
TZOFFSETTO:+0200
END:DAYLIGHT
END:VTIMEZONE
END:VCALENDAR
