BEGIN:VCALENDAR
VERSION:2.0
PRODID:-//Plone.org//NONSGML plone.app.event//EN
X-WR-TIMEZONE:Europe/Andorra
BEGIN:VEVENT
SUMMARY:Freeride World Tour 
DTSTART;TZID=CET;VALUE=DATE-TIME:20200228T090000
DTEND;TZID=CET;VALUE=DATE-TIME:20200304T130000
DTSTAMP;VALUE=DATE-TIME:20260420T112109Z
UID:6b46f569aa25401aaf23d46a55a7673c@www.ordino.ad
CONTACT:https://www.freerideworldtour.com/news/high-stakes-fwt20-ordino-ar
 calis-andorra
CREATED;VALUE=DATE-TIME:20170125T134958Z
LAST-MODIFIED;VALUE=DATE-TIME:20210504T045333Z
URL:https://www.ordino.ad/agenda/freeride-world-tour-2
END:VEVENT
BEGIN:VTIMEZONE
TZID:CET
X-LIC-LOCATION:CET
BEGIN:STANDARD
DTSTART;VALUE=DATE-TIME:20191027T020000
TZNAME:CET
TZOFFSETFROM:+0200
TZOFFSETTO:+0100
END:STANDARD
END:VTIMEZONE
END:VCALENDAR
