BEGIN:VCALENDAR
VERSION:2.0
PRODID:-//Plone.org//NONSGML plone.app.event//EN
X-WR-TIMEZONE:Europe/Andorra
BEGIN:VEVENT
SUMMARY:Jam Extrem Freeride
DTSTART;TZID=CET;VALUE=DATE-TIME:20180401T090000
DTEND;TZID=CET;VALUE=DATE-TIME:20180401T130000
DTSTAMP;VALUE=DATE-TIME:20260422T095243Z
UID:f9a2abf6026447dfa334486ac53f2e4c@www.ordino.ad
CONTACT:https://www.freerideworldtour.com/event/jam-extreme-3-2018
CREATED;VALUE=DATE-TIME:20170309T135553Z
LAST-MODIFIED;VALUE=DATE-TIME:20210504T045323Z
URL:https://www.ordino.ad/agenda/jam-extrem-freeride
END:VEVENT
BEGIN:VTIMEZONE
TZID:CET
X-LIC-LOCATION:CET
BEGIN:DAYLIGHT
DTSTART;VALUE=DATE-TIME:20180325T030000
TZNAME:CEST
TZOFFSETFROM:+0100
TZOFFSETTO:+0200
END:DAYLIGHT
END:VTIMEZONE
END:VCALENDAR
