BEGIN:VCALENDAR
VERSION:2.0
PRODID:-//Plone.org//NONSGML plone.app.event//EN
X-WR-TIMEZONE:Europe/Andorra
BEGIN:VEVENT
SUMMARY:Cicle JazzHivern Andorra
DTSTART;TZID=CET;VALUE=DATE-TIME:20150320T213000
DTEND;TZID=CET;VALUE=DATE-TIME:20150320T213000
DTSTAMP;VALUE=DATE-TIME:20260420T052555Z
UID:21e7020c360043a0b692b66e7f8fee24@www.ordino.ad
CREATED;VALUE=DATE-TIME:20150203T115736Z
LAST-MODIFIED;VALUE=DATE-TIME:20210504T045248Z
URL:https://www.ordino.ad/agenda/jazzhivern-andorra-1
END:VEVENT
BEGIN:VTIMEZONE
TZID:CET
X-LIC-LOCATION:CET
BEGIN:STANDARD
DTSTART;VALUE=DATE-TIME:20141026T020000
TZNAME:CET
TZOFFSETFROM:+0200
TZOFFSETTO:+0100
END:STANDARD
END:VTIMEZONE
END:VCALENDAR
