BEGIN:VCALENDAR
VERSION:2.0
PRODID:-//Plone.org//NONSGML plone.app.event//EN
X-WR-TIMEZONE:Europe/Andorra
BEGIN:VEVENT
SUMMARY:La Capsa presenta el curs 2016-2017
DTSTART;TZID=CET;VALUE=DATE-TIME:20160912T160000
DTEND;TZID=CET;VALUE=DATE-TIME:20160918T190000
DTSTAMP;VALUE=DATE-TIME:20260425T173410Z
UID:09ae4b27c45d47a7b1afd36dbb809ace@www.ordino.ad
CREATED;VALUE=DATE-TIME:20160909T091042Z
LAST-MODIFIED;VALUE=DATE-TIME:20210504T045319Z
URL:https://www.ordino.ad/agenda/la-capsa-presenta-el-curs-2016-2017
END:VEVENT
BEGIN:VTIMEZONE
TZID:CET
X-LIC-LOCATION:CET
BEGIN:DAYLIGHT
DTSTART;VALUE=DATE-TIME:20160327T030000
TZNAME:CEST
TZOFFSETFROM:+0100
TZOFFSETTO:+0200
END:DAYLIGHT
END:VTIMEZONE
END:VCALENDAR
