BEGIN:VCALENDAR
VERSION:2.0
PRODID:-//Plone.org//NONSGML plone.app.event//EN
X-WR-TIMEZONE:Europe/Andorra
BEGIN:VEVENT
SUMMARY:L'ONCA també bufa
DTSTART;TZID=Europe/Andorra;VALUE=DATE-TIME:20231126T120000
DTEND;TZID=Europe/Andorra;VALUE=DATE-TIME:20231126T130000
DTSTAMP;VALUE=DATE-TIME:20260421T110952Z
UID:5961f4d97ff144f29041fa992880317e@www.ordino.ad
CONTACT:https://festivalsordino.4tickets.es/
CREATED;VALUE=DATE-TIME:20231106T085026Z
DESCRIPTION:Quintet de vent de l'Orquestra Nacional Clàssica d'Andorra
LAST-MODIFIED;VALUE=DATE-TIME:20231107T102640Z
LOCATION:Església parroquial d'Ordino
URL:https://www.ordino.ad/agenda/lonca-tambe-bufa
END:VEVENT
BEGIN:VTIMEZONE
TZID:Europe/Andorra
X-LIC-LOCATION:Europe/Andorra
BEGIN:STANDARD
DTSTART;VALUE=DATE-TIME:20231029T020000
TZNAME:CET
TZOFFSETFROM:+0200
TZOFFSETTO:+0100
END:STANDARD
END:VTIMEZONE
END:VCALENDAR
