BEGIN:VCALENDAR
VERSION:2.0
PRODID:-//Plone.org//NONSGML plone.app.event//EN
X-WR-TIMEZONE:Europe/Andorra
BEGIN:VEVENT
SUMMARY:Marxa popular a totes les parròquies 'Mou-te per la teva salut'
DTSTART;TZID=Europe/Andorra;VALUE=DATE-TIME:20221008T110000
DTEND;TZID=Europe/Andorra;VALUE=DATE-TIME:20221008T120000
DTSTAMP;VALUE=DATE-TIME:20260425T210423Z
UID:431a8a2c3aa746939d5316136d66bf71@www.ordino.ad
CONTACT:https://esportperatothom.ad/
CREATED;VALUE=DATE-TIME:20220919T081319Z
DESCRIPTION:2a Campanya nacional de promoció de l'activitat física
LAST-MODIFIED;VALUE=DATE-TIME:20220920T061545Z
LOCATION:CEO
URL:https://www.ordino.ad/agenda/marxa-popular-a-totes-les-parroquies-mou-
 te-per-la-teva-salut
END:VEVENT
BEGIN:VTIMEZONE
TZID:Europe/Andorra
X-LIC-LOCATION:Europe/Andorra
BEGIN:DAYLIGHT
DTSTART;VALUE=DATE-TIME:20220327T030000
TZNAME:CEST
TZOFFSETFROM:+0100
TZOFFSETTO:+0200
END:DAYLIGHT
END:VTIMEZONE
END:VCALENDAR
