BEGIN:VCALENDAR
VERSION:2.0
PRODID:-//Plone.org//NONSGML plone.app.event//EN
X-WR-TIMEZONE:Europe/Andorra
BEGIN:VEVENT
SUMMARY:Nits d'Estiu als Museus
DTSTART;TZID=Europe/Andorra;VALUE=DATE-TIME:20210918T200000
DTEND;TZID=Europe/Andorra;VALUE=DATE-TIME:20210918T210000
DTSTAMP;VALUE=DATE-TIME:20210817T190723Z
UID:1a544294e9544608a56b6be24c22eced@www.ordino.ad
CONTACT:+376 836908\, https://museus.ad/
CREATED;VALUE=DATE-TIME:20210712T105954Z
DESCRIPTION:Diàlegs per a violí i violencel
LAST-MODIFIED;VALUE=DATE-TIME:20210712T110022Z
LOCATION:Era gran de Casa Rossell
URL:https://www.ordino.ad/agenda/nits-destiu-als-museus-2
END:VEVENT
BEGIN:VTIMEZONE
TZID:Europe/Andorra
X-LIC-LOCATION:Europe/Andorra
BEGIN:DAYLIGHT
DTSTART;VALUE=DATE-TIME:20210328T030000
TZNAME:CEST
TZOFFSETFROM:+0100
TZOFFSETTO:+0200
END:DAYLIGHT
END:VTIMEZONE
END:VCALENDAR
