BEGIN:VCALENDAR
VERSION:2.0
PRODID:-//Plone.org//NONSGML plone.app.event//EN
X-WR-TIMEZONE:Europe/Andorra
BEGIN:VEVENT
SUMMARY:Festival Picurt
DTSTART;TZID=CET;VALUE=DATE-TIME:20170621T190000
DTEND;TZID=CET;VALUE=DATE-TIME:20170621T210000
DTSTAMP;VALUE=DATE-TIME:20260422T075423Z
UID:474acaac823c47a3b148637e2eb31f79@www.ordino.ad
CONTACT:http://picurt.org/
CREATED;VALUE=DATE-TIME:20170531T071354Z
LAST-MODIFIED;VALUE=DATE-TIME:20210504T045338Z
URL:https://www.ordino.ad/agenda/picurt-1
END:VEVENT
BEGIN:VTIMEZONE
TZID:CET
X-LIC-LOCATION:CET
BEGIN:DAYLIGHT
DTSTART;VALUE=DATE-TIME:20170326T030000
TZNAME:CEST
TZOFFSETFROM:+0100
TZOFFSETTO:+0200
END:DAYLIGHT
END:VTIMEZONE
END:VCALENDAR
