BEGIN:VCALENDAR
VERSION:2.0
PRODID:-//Plone.org//NONSGML plone.app.event//EN
X-WR-TIMEZONE:Europe/Andorra
BEGIN:VEVENT
SUMMARY:Porta un amic al CEO per Sant Jordi
DTSTART;TZID=CET;VALUE=DATE-TIME:20160423T100000
DTEND;TZID=CET;VALUE=DATE-TIME:20160423T210000
DTSTAMP;VALUE=DATE-TIME:20260420T002140Z
UID:4b7d93c2c1224b96849f7b5b6ae7bc7a@www.ordino.ad
CREATED;VALUE=DATE-TIME:20160419T122348Z
LAST-MODIFIED;VALUE=DATE-TIME:20210504T045319Z
URL:https://www.ordino.ad/agenda/porta-un-amic-al-ceo-per-sant-jordi
END:VEVENT
BEGIN:VTIMEZONE
TZID:CET
X-LIC-LOCATION:CET
BEGIN:DAYLIGHT
DTSTART;VALUE=DATE-TIME:20160327T030000
TZNAME:CEST
TZOFFSETFROM:+0100
TZOFFSETTO:+0200
END:DAYLIGHT
END:VTIMEZONE
END:VCALENDAR
