BEGIN:VCALENDAR
VERSION:2.0
PRODID:-//Plone.org//NONSGML plone.app.event//EN
X-WR-TIMEZONE:Europe/Andorra
BEGIN:VEVENT
SUMMARY:Portes obertes al Centre Esportiu d'Ordino  
DTSTART;TZID=CET;VALUE=DATE-TIME:20150923T070000
DTEND;TZID=CET;VALUE=DATE-TIME:20150923T220000
DTSTAMP;VALUE=DATE-TIME:20260419T233512Z
UID:df874731dd034d2499dfde48f6a9630d@www.ordino.ad
CREATED;VALUE=DATE-TIME:20150911T074106Z
LAST-MODIFIED;VALUE=DATE-TIME:20210504T045259Z
URL:https://www.ordino.ad/agenda/portes-obertes-al-centre-esportiu-dordino
END:VEVENT
BEGIN:VTIMEZONE
TZID:CET
X-LIC-LOCATION:CET
BEGIN:DAYLIGHT
DTSTART;VALUE=DATE-TIME:20150329T030000
TZNAME:CEST
TZOFFSETFROM:+0100
TZOFFSETTO:+0200
END:DAYLIGHT
END:VTIMEZONE
END:VCALENDAR
