BEGIN:VCALENDAR
VERSION:2.0
PRODID:-//Plone.org//NONSGML plone.app.event//EN
X-WR-TIMEZONE:Europe/Andorra
BEGIN:VEVENT
SUMMARY:Projecció de 'Yojimbo' d'Akira Kurosawa
DTSTART;TZID=CET;VALUE=DATE-TIME:20170517T210000
DTEND;TZID=CET;VALUE=DATE-TIME:20170517T223000
DTSTAMP;VALUE=DATE-TIME:20260425T172956Z
UID:48b3d0a64f1e4014ae2f54c05c8847fa@www.ordino.ad
CONTACT:http://www.geografies.ad/
CREATED;VALUE=DATE-TIME:20170426T131249Z
DESCRIPTION:Cicle Geografies: Japó
LAST-MODIFIED;VALUE=DATE-TIME:20210504T045333Z
URL:https://www.ordino.ad/agenda/projeccio-de-yojimbo-dakira-kurosawa
END:VEVENT
BEGIN:VTIMEZONE
TZID:CET
X-LIC-LOCATION:CET
BEGIN:DAYLIGHT
DTSTART;VALUE=DATE-TIME:20170326T030000
TZNAME:CEST
TZOFFSETFROM:+0100
TZOFFSETTO:+0200
END:DAYLIGHT
END:VTIMEZONE
END:VCALENDAR
