BEGIN:VCALENDAR
VERSION:2.0
PRODID:-//Plone.org//NONSGML plone.app.event//EN
X-WR-TIMEZONE:Europe/Andorra
BEGIN:VEVENT
SUMMARY:Reunions veïnals 
DTSTART;TZID=CET;VALUE=DATE-TIME:20160420T203000
DTEND;TZID=CET;VALUE=DATE-TIME:20160420T220000
DTSTAMP;VALUE=DATE-TIME:20260422T020617Z
UID:e6e7d4c6b943481099de5937cb84a75f@www.ordino.ad
CREATED;VALUE=DATE-TIME:20160323T131950Z
DESCRIPTION:Veïns de la Gonarda\, Balcó d'Ordino i Prat Gran
LAST-MODIFIED;VALUE=DATE-TIME:20210504T045308Z
URL:https://www.ordino.ad/agenda/reunions-veinals-3
END:VEVENT
BEGIN:VTIMEZONE
TZID:CET
X-LIC-LOCATION:CET
BEGIN:DAYLIGHT
DTSTART;VALUE=DATE-TIME:20160327T030000
TZNAME:CEST
TZOFFSETFROM:+0100
TZOFFSETTO:+0200
END:DAYLIGHT
END:VTIMEZONE
END:VCALENDAR
