BEGIN:VCALENDAR
VERSION:2.0
PRODID:-//Plone.org//NONSGML plone.app.event//EN
X-WR-TIMEZONE:Europe/Andorra
BEGIN:VEVENT
SUMMARY:Reunions veïnals
DTSTART;TZID=CET;VALUE=DATE-TIME:20160426T203000
DTEND;TZID=CET;VALUE=DATE-TIME:20160426T213000
DTSTAMP;VALUE=DATE-TIME:20260424T101912Z
UID:9e25b6e71b984031b57e8bc8d78e6960@www.ordino.ad
CREATED;VALUE=DATE-TIME:20160425T063330Z
DESCRIPTION:Veïns de Sornàs i Ansalonga
LAST-MODIFIED;VALUE=DATE-TIME:20210504T045311Z
URL:https://www.ordino.ad/agenda/reunions-veinals-9
END:VEVENT
BEGIN:VTIMEZONE
TZID:CET
X-LIC-LOCATION:CET
BEGIN:DAYLIGHT
DTSTART;VALUE=DATE-TIME:20160327T030000
TZNAME:CEST
TZOFFSETFROM:+0100
TZOFFSETTO:+0200
END:DAYLIGHT
END:VTIMEZONE
END:VCALENDAR
