BEGIN:VCALENDAR
VERSION:2.0
PRODID:-//Plone.org//NONSGML plone.app.event//EN
X-WR-TIMEZONE:Europe/Andorra
BEGIN:VEVENT
SUMMARY:Revetlla de Sant Pere
DTSTART;TZID=Europe/Andorra;VALUE=DATE-TIME:20230628T203000
DTEND;TZID=Europe/Andorra;VALUE=DATE-TIME:20230628T235500
DTSTAMP;VALUE=DATE-TIME:20260421T091247Z
UID:b1f3ca6f85754eaeae4ee7ec52ad6b27@www.ordino.ad
CREATED;VALUE=DATE-TIME:20230606T111359Z
DESCRIPTION:Costellada traslladada a l'ACCO.
LAST-MODIFIED;VALUE=DATE-TIME:20230628T105222Z
LOCATION:Ordino
URL:https://www.ordino.ad/agenda/revetlla-de-sant-pere-3
END:VEVENT
BEGIN:VTIMEZONE
TZID:Europe/Andorra
X-LIC-LOCATION:Europe/Andorra
BEGIN:DAYLIGHT
DTSTART;VALUE=DATE-TIME:20230326T030000
TZNAME:CEST
TZOFFSETFROM:+0100
TZOFFSETTO:+0200
END:DAYLIGHT
END:VTIMEZONE
END:VCALENDAR
