BEGIN:VCALENDAR
VERSION:2.0
PRODID:-//Plone.org//NONSGML plone.app.event//EN
X-WR-TIMEZONE:Europe/Andorra
BEGIN:VEVENT
SUMMARY:Rua de Carnestoltes de les Escoles
DTSTART;TZID=Europe/Andorra;VALUE=DATE-TIME:20220225T100000
DTEND;TZID=Europe/Andorra;VALUE=DATE-TIME:20220225T123000
DTSTAMP;VALUE=DATE-TIME:20260420T151303Z
UID:8e6e1ec9a3794b0897323b5e18e2a3d5@www.ordino.ad
CREATED;VALUE=DATE-TIME:20190211T113715Z
LAST-MODIFIED;VALUE=DATE-TIME:20220207T103132Z
URL:https://www.ordino.ad/agenda/rua-de-carnestoltes-de-les-escoles-1
END:VEVENT
BEGIN:VTIMEZONE
TZID:Europe/Andorra
X-LIC-LOCATION:Europe/Andorra
BEGIN:STANDARD
DTSTART;VALUE=DATE-TIME:20211031T020000
TZNAME:CET
TZOFFSETFROM:+0200
TZOFFSETTO:+0100
END:STANDARD
END:VTIMEZONE
END:VCALENDAR
