BEGIN:VCALENDAR
VERSION:2.0
PRODID:-//Plone.org//NONSGML plone.app.event//EN
X-WR-TIMEZONE:Europe/Andorra
BEGIN:VEVENT
SUMMARY:Sortida al Saló del Manga
DTSTART;TZID=CET;VALUE=DATE-TIME:20161031T090000
DTEND;TZID=CET;VALUE=DATE-TIME:20161031T200000
DTSTAMP;VALUE=DATE-TIME:20260420T022427Z
UID:0dcea7343f924530ab0d2fd1b9ddd4a3@www.ordino.ad
CREATED;VALUE=DATE-TIME:20161012T072444Z
DESCRIPTION:Activitats joves per Tots Sants a les Valls del Nord
LAST-MODIFIED;VALUE=DATE-TIME:20210504T045325Z
URL:https://www.ordino.ad/agenda/sortida-al-salo-del-manga-1
END:VEVENT
BEGIN:VTIMEZONE
TZID:CET
X-LIC-LOCATION:CET
BEGIN:STANDARD
DTSTART;VALUE=DATE-TIME:20161030T020000
TZNAME:CET
TZOFFSETFROM:+0200
TZOFFSETTO:+0100
END:STANDARD
END:VTIMEZONE
END:VCALENDAR
