BEGIN:VCALENDAR
VERSION:2.0
PRODID:-//Plone.org//NONSGML plone.app.event//EN
X-WR-TIMEZONE:Europe/Andorra
BEGIN:VEVENT
SUMMARY:Subhasta benèfica d'art
DTSTART;TZID=CET;VALUE=DATE-TIME:20150610T200000
DTEND;TZID=CET;VALUE=DATE-TIME:20150610T200000
DTSTAMP;VALUE=DATE-TIME:20260420T150446Z
UID:d02f8b70a9c44a79a4449b02a390b566@www.ordino.ad
CONTACT:http://www.ordino.ad/docs/2asubhasta/at_download/file
CREATED;VALUE=DATE-TIME:20150601T065917Z
LAST-MODIFIED;VALUE=DATE-TIME:20210504T045257Z
URL:https://www.ordino.ad/agenda/subhasta-benefica-dart
END:VEVENT
BEGIN:VTIMEZONE
TZID:CET
X-LIC-LOCATION:CET
BEGIN:DAYLIGHT
DTSTART;VALUE=DATE-TIME:20150329T030000
TZNAME:CEST
TZOFFSETFROM:+0100
TZOFFSETTO:+0200
END:DAYLIGHT
END:VTIMEZONE
END:VCALENDAR
