BEGIN:VCALENDAR
VERSION:2.0
PRODID:-//Plone.org//NONSGML plone.app.event//EN
X-WR-TIMEZONE:Europe/Andorra
BEGIN:VEVENT
SUMMARY:Subhasta d'art benèfica
DTSTART;TZID=CET;VALUE=DATE-TIME:20160616T203000
DTEND;TZID=CET;VALUE=DATE-TIME:20160616T233000
DTSTAMP;VALUE=DATE-TIME:20260421T111909Z
UID:9271634d15574894be25961afa3a9275@www.ordino.ad
CREATED;VALUE=DATE-TIME:20160411T132026Z
LAST-MODIFIED;VALUE=DATE-TIME:20210504T045309Z
URL:https://www.ordino.ad/agenda/subhasta-dart-benefica
END:VEVENT
BEGIN:VTIMEZONE
TZID:CET
X-LIC-LOCATION:CET
BEGIN:DAYLIGHT
DTSTART;VALUE=DATE-TIME:20160327T030000
TZNAME:CEST
TZOFFSETFROM:+0100
TZOFFSETTO:+0200
END:DAYLIGHT
END:VTIMEZONE
END:VCALENDAR
