BEGIN:VCALENDAR
VERSION:2.0
PRODID:-//Plone.org//NONSGML plone.app.event//EN
X-WR-TIMEZONE:Europe/Andorra
BEGIN:VEVENT
SUMMARY:Zona mares i pares. El despertar dels adolescents 
DTSTART;TZID=CET;VALUE=DATE-TIME:20200324T203000
DTEND;TZID=CET;VALUE=DATE-TIME:20200324T210000
DTSTAMP;VALUE=DATE-TIME:20210817T193628Z
UID:bb5d34584dc44cf98c87ea51deda0112@www.ordino.ad
CREATED;VALUE=DATE-TIME:20200303T135253Z
LAST-MODIFIED;VALUE=DATE-TIME:20210504T045409Z
URL:https://www.ordino.ad/agenda/zona-mares-i-pares-el-despertar-dels-adol
 escents
END:VEVENT
BEGIN:VTIMEZONE
TZID:CET
X-LIC-LOCATION:CET
BEGIN:STANDARD
DTSTART;VALUE=DATE-TIME:20191027T020000
TZNAME:CET
TZOFFSETFROM:+0200
TZOFFSETTO:+0100
END:STANDARD
END:VTIMEZONE
END:VCALENDAR
